BEGIN:VCALENDAR
VERSION:2.0
PRODID:-//Jazz Singer YANNIE | Official website - ECPv5.10.0//NONSGML v1.0//EN
CALSCALE:GREGORIAN
METHOD:PUBLISH
X-WR-CALNAME:Jazz Singer YANNIE | Official website
X-ORIGINAL-URL:https://theyannie.com
X-WR-CALDESC:Jazz Singer YANNIE | Official website のイベント
BEGIN:VTIMEZONE
TZID:Asia/Tokyo
BEGIN:STANDARD
TZOFFSETFROM:+0900
TZOFFSETTO:+0900
TZNAME:JST
DTSTART:20230101T000000
END:STANDARD
END:VTIMEZONE
BEGIN:VEVENT
DTSTART;TZID=Asia/Tokyo:20231029T175500
DTEND;TZID=Asia/Tokyo:20231029T183000
DTSTAMP:20260422T152637
CREATED:20230831T065432Z
LAST-MODIFIED:20230831T065432Z
UID:2403-1698602100-1698604200@theyannie.com
SUMMARY:川崎ジャズプレーヤーズフェスタ2023（KJPF2023）Big Band Jazz Day
DESCRIPTION:川崎ジャズにBlue Herd H Groupと共演させていただきます。 \n詳細は近日中に公開いたします。
URL:https://theyannie.com/event/20231029-kawasakijazz/
LOCATION:川崎市産業振興会館　1Fホール\, 幸区堀川町66番地20\, 川崎市\, 神奈川県\, 212-0013\, Japan
CATEGORIES:Music Fest
ATTACH;FMTTYPE=image/jpeg:https://theyannie.com/wp/wp-content/uploads/2023/08/mainvisual-img-2023-pc.jpg
END:VEVENT
END:VCALENDAR